BEGIN:VCALENDAR
VERSION:2.0
PRODID:-//Kingaroy Chamber of Commerce - ECPv6.15.20//NONSGML v1.0//EN
CALSCALE:GREGORIAN
METHOD:PUBLISH
X-WR-CALNAME:Kingaroy Chamber of Commerce
X-ORIGINAL-URL:https://kcci.asn.au
X-WR-CALDESC:Events for Kingaroy Chamber of Commerce
REFRESH-INTERVAL;VALUE=DURATION:PT1H
X-Robots-Tag:noindex
X-PUBLISHED-TTL:PT1H
BEGIN:VTIMEZONE
TZID:Australia/Melbourne
BEGIN:STANDARD
TZOFFSETFROM:+1100
TZOFFSETTO:+1000
TZNAME:AEST
DTSTART:20250405T160000
END:STANDARD
BEGIN:DAYLIGHT
TZOFFSETFROM:+1000
TZOFFSETTO:+1100
TZNAME:AEDT
DTSTART:20251004T160000
END:DAYLIGHT
BEGIN:STANDARD
TZOFFSETFROM:+1100
TZOFFSETTO:+1000
TZNAME:AEST
DTSTART:20260404T160000
END:STANDARD
BEGIN:DAYLIGHT
TZOFFSETFROM:+1000
TZOFFSETTO:+1100
TZNAME:AEDT
DTSTART:20261003T160000
END:DAYLIGHT
BEGIN:STANDARD
TZOFFSETFROM:+1100
TZOFFSETTO:+1000
TZNAME:AEST
DTSTART:20270403T160000
END:STANDARD
BEGIN:DAYLIGHT
TZOFFSETFROM:+1000
TZOFFSETTO:+1100
TZNAME:AEDT
DTSTART:20271002T160000
END:DAYLIGHT
END:VTIMEZONE
BEGIN:VEVENT
DTSTART;TZID=Australia/Melbourne:20260423T150000
DTEND;TZID=Australia/Melbourne:20260423T190000
DTSTAMP:20260423T014948
CREATED:20260416T001536Z
LAST-MODIFIED:20260416T001536Z
UID:8932-1776956400-1776970800@kcci.asn.au
SUMMARY:Recovery Hub Sessions Durong and Mondure
DESCRIPTION:South Burnett Regional Council invites the community to a drop-in session to connect with disaster recovery agencies and support services. Sessions are as follows: \nSession One:  \nWhere: Durong Hall\, Chinchilla Wondai Road\, Durong \nWhen: Thursday 23 April 2026 -3pm – 7pm \nSession Two:  \nWhere: Mondure Hall\, McConnel Way\, Mondure \nWhen: Thursday 30 April 2026 -3pm – 7pm \n  \nRSVP to SB Regional Council – phone 4189 9463 or email executive.services@sbrc.qld.gov.au
URL:https://kcci.asn.au/event/recovery-hub-sessions-durong-and-mondure/
LOCATION:QLD
CATEGORIES:Community Events
ATTACH;FMTTYPE=image/png:https://kcci.asn.au/wp-content/uploads/2026/04/SBRC-Recovery-Sessions-.png
END:VEVENT
END:VCALENDAR