BEGIN:VCALENDAR
VERSION:2.0
PRODID:-//Kingaroy Chamber of Commerce - ECPv6.15.20//NONSGML v1.0//EN
CALSCALE:GREGORIAN
METHOD:PUBLISH
X-WR-CALNAME:Kingaroy Chamber of Commerce
X-ORIGINAL-URL:https://kcci.asn.au
X-WR-CALDESC:Events for Kingaroy Chamber of Commerce
REFRESH-INTERVAL;VALUE=DURATION:PT1H
X-Robots-Tag:noindex
X-PUBLISHED-TTL:PT1H
BEGIN:VTIMEZONE
TZID:Australia/Melbourne
BEGIN:STANDARD
TZOFFSETFROM:+1100
TZOFFSETTO:+1000
TZNAME:AEST
DTSTART:20250405T160000
END:STANDARD
BEGIN:DAYLIGHT
TZOFFSETFROM:+1000
TZOFFSETTO:+1100
TZNAME:AEDT
DTSTART:20251004T160000
END:DAYLIGHT
BEGIN:STANDARD
TZOFFSETFROM:+1100
TZOFFSETTO:+1000
TZNAME:AEST
DTSTART:20260404T160000
END:STANDARD
BEGIN:DAYLIGHT
TZOFFSETFROM:+1000
TZOFFSETTO:+1100
TZNAME:AEDT
DTSTART:20261003T160000
END:DAYLIGHT
BEGIN:STANDARD
TZOFFSETFROM:+1100
TZOFFSETTO:+1000
TZNAME:AEST
DTSTART:20270403T160000
END:STANDARD
BEGIN:DAYLIGHT
TZOFFSETFROM:+1000
TZOFFSETTO:+1100
TZNAME:AEDT
DTSTART:20271002T160000
END:DAYLIGHT
END:VTIMEZONE
BEGIN:VEVENT
DTSTART;TZID=Australia/Melbourne:20260515T060000
DTEND;TZID=Australia/Melbourne:20260515T203000
DTSTAMP:20260425T032435
CREATED:20260416T010019Z
LAST-MODIFIED:20260416T010232Z
UID:8940-1778824800-1778877000@kcci.asn.au
SUMMARY:Mayors Breakfast!
DESCRIPTION:Your invited to the Mayor’s Breakfast TO LAUNCH THE SOUTH BURNETT RELAY FOR LIFE 2026! \nWhen: FRIDAY 15 MAY 2026\nTime: 6.00am for 6:30am start to 8.30am\nVenue: Kingaroy RSL\nCost: $35 per person (hot breakfast\,tea/coffee & juice). \nTickets may be pre-purchased at any Council Customer Service Centres or via bookable HERE! \n 
URL:https://kcci.asn.au/event/mayors-breakfast-2/
LOCATION:Kingaroy RSL\, 126 Kingaroy Street\, Kingaroy\, QLD\, 4610\, Australia
CATEGORIES:Community Events
ATTACH;FMTTYPE=image/png:https://kcci.asn.au/wp-content/uploads/2026/04/Mayors-Breakfast-Event-2026.png
END:VEVENT
END:VCALENDAR