BEGIN:VCALENDAR
VERSION:2.0
PRODID:-//Kingaroy Chamber of Commerce - ECPv6.15.20//NONSGML v1.0//EN
CALSCALE:GREGORIAN
METHOD:PUBLISH
X-ORIGINAL-URL:https://kcci.asn.au
X-WR-CALDESC:Events for Kingaroy Chamber of Commerce
REFRESH-INTERVAL;VALUE=DURATION:PT1H
X-Robots-Tag:noindex
X-PUBLISHED-TTL:PT1H
BEGIN:VTIMEZONE
TZID:Australia/Melbourne
BEGIN:STANDARD
TZOFFSETFROM:+1100
TZOFFSETTO:+1000
TZNAME:AEST
DTSTART:20250405T160000
END:STANDARD
BEGIN:DAYLIGHT
TZOFFSETFROM:+1000
TZOFFSETTO:+1100
TZNAME:AEDT
DTSTART:20251004T160000
END:DAYLIGHT
BEGIN:STANDARD
TZOFFSETFROM:+1100
TZOFFSETTO:+1000
TZNAME:AEST
DTSTART:20260404T160000
END:STANDARD
BEGIN:DAYLIGHT
TZOFFSETFROM:+1000
TZOFFSETTO:+1100
TZNAME:AEDT
DTSTART:20261003T160000
END:DAYLIGHT
BEGIN:STANDARD
TZOFFSETFROM:+1100
TZOFFSETTO:+1000
TZNAME:AEST
DTSTART:20270403T160000
END:STANDARD
BEGIN:DAYLIGHT
TZOFFSETFROM:+1000
TZOFFSETTO:+1100
TZNAME:AEDT
DTSTART:20271002T160000
END:DAYLIGHT
END:VTIMEZONE
BEGIN:VEVENT
DTSTART;TZID=Australia/Melbourne:20260724T083000
DTEND;TZID=Australia/Melbourne:20260724T150000
DTSTAMP:20260425T065552
CREATED:20260416T013735Z
LAST-MODIFIED:20260416T013735Z
UID:8951-1784881800-1784905200@kcci.asn.au
SUMMARY:2026 South Burnett Careers Market
DESCRIPTION:We invite you to join with other local businesses in the community to showcase career and employment opportunities for young people at the 2026 South Burnett Careers Market held on Friday 24 July 2026\, 8.30am-3pm at TAFE Queensland’s Kingaroy campus. \nThis interactive\, hands-on event is designed to inspire school students to explore the range of employment and training opportunities available in our region. \nRegister Expressions of Interest HERE!
URL:https://kcci.asn.au/event/2026-south-burnett-careers-market/
LOCATION:Kingaroy TAFE\, Cnr Bunya Highwayand Geritz Rd\, Kingaroy\, QLD\, 4610\, Australia
CATEGORIES:Business Events,Community Events
ATTACH;FMTTYPE=image/png:https://kcci.asn.au/wp-content/uploads/2026/04/TAFE-Qld-South-Burnett-Careers-Market-2026.png
END:VEVENT
END:VCALENDAR