BEGIN:VCALENDAR
VERSION:2.0
PRODID:-//Kingaroy Chamber of Commerce - ECPv6.15.20//NONSGML v1.0//EN
CALSCALE:GREGORIAN
METHOD:PUBLISH
X-ORIGINAL-URL:https://kcci.asn.au
X-WR-CALDESC:Events for Kingaroy Chamber of Commerce
REFRESH-INTERVAL;VALUE=DURATION:PT1H
X-Robots-Tag:noindex
X-PUBLISHED-TTL:PT1H
BEGIN:VTIMEZONE
TZID:Australia/Melbourne
BEGIN:STANDARD
TZOFFSETFROM:+1100
TZOFFSETTO:+1000
TZNAME:AEST
DTSTART:20250405T160000
END:STANDARD
BEGIN:DAYLIGHT
TZOFFSETFROM:+1000
TZOFFSETTO:+1100
TZNAME:AEDT
DTSTART:20251004T160000
END:DAYLIGHT
BEGIN:STANDARD
TZOFFSETFROM:+1100
TZOFFSETTO:+1000
TZNAME:AEST
DTSTART:20260404T160000
END:STANDARD
BEGIN:DAYLIGHT
TZOFFSETFROM:+1000
TZOFFSETTO:+1100
TZNAME:AEDT
DTSTART:20261003T160000
END:DAYLIGHT
BEGIN:STANDARD
TZOFFSETFROM:+1100
TZOFFSETTO:+1000
TZNAME:AEST
DTSTART:20270403T160000
END:STANDARD
BEGIN:DAYLIGHT
TZOFFSETFROM:+1000
TZOFFSETTO:+1100
TZNAME:AEDT
DTSTART:20271002T160000
END:DAYLIGHT
END:VTIMEZONE
BEGIN:VEVENT
DTSTART;TZID=Australia/Melbourne:20260317T090000
DTEND;TZID=Australia/Melbourne:20260317T120000
DTSTAMP:20260424T091035
CREATED:20260309T000750Z
LAST-MODIFIED:20260309T001558Z
UID:8833-1773738000-1773748800@kcci.asn.au
SUMMARY:Fundamentals of Solar Generated Energy
DESCRIPTION:This micro-credential has been created through the Regional Economic Futures Fund Project\, in collaboration with the Queensland Government. \nMicro-credential Description\nThis micro-credential explains the fundamental principles of how solar PV systems work to produce electricity from sunlight\, and introduces the key components and materials used in solar photovoltaic (PV) systems. \nIt discusses grid-tied and off-grid systems\, the factors influencing the performance and efficiency of solar arrays\, and the implementation requirements for solar PV systems. The micro-credential also outlines the safety and regulatory requirements applicable to the solar industry. \nTopics Covered\n\nPrinciples of solar photovoltaic (PV) systems\nFunction of the main PV system components\nPV system implementation requirements\n\nWhen: \n17 March 2026\, 9 am to 12 noon \nWhere: \nKingaroy Tafe\, Cnr Bunya Highwayand Geritz Rd\, Kingaroy\,Qld 4610 \nRegister here:  \n 
URL:https://kcci.asn.au/event/fundamentals-of-solar-generated-energy/
LOCATION:Kingaroy TAFE\, Cnr Bunya Highwayand Geritz Rd\, Kingaroy\, QLD\, 4610\, Australia
CATEGORIES:Training & Education
ATTACH;FMTTYPE=image/png:https://kcci.asn.au/wp-content/uploads/2026/03/Fundamentals-of-solar-power-TAFE-.png
END:VEVENT
BEGIN:VEVENT
DTSTART;TZID=Australia/Melbourne:20260317T130000
DTEND;TZID=Australia/Melbourne:20260317T160000
DTSTAMP:20260424T091035
CREATED:20260309T001502Z
LAST-MODIFIED:20260309T001503Z
UID:8837-1773752400-1773763200@kcci.asn.au
SUMMARY:New Technologies in the Renewable Energy Sector
DESCRIPTION:This micro-credential has been created through the Regional Economic Futures Fund Project\, in collaboration with the Queensland Government. \nMicro-credential Description\nThe Current and new technologies in the renewable energy sector micro-credential introduces clean and renewable energy sources\, including an overview of primary (solar\, wind\, biofuels) and secondary (battery storage\, hydrogen\, pumped hydro energy storage and hydroelectricity) energy generation. \nIt also provides an overview of emerging technologies in the renewable energy sector\, including advanced photovoltaic systems\, floating solar farms\, energy storage systems (solid-state and flow batteries)\, green hydrogen (H) production\, advanced bioenergy fuels\, offshore wind technology\, smart grids\, and Carbon Capture and Utilisation (CCU). \nTopics Covered\n\nIntroduction to renewable energy\nCurrent primary energy generation\nCurrent secondary energy generation\nEmerging Technologies\n\nWhen: \n17 March 2026\, 1 pm to 4 pm \nWhere:  \nKingaroy Tafe\, Cnr Bunya Highwayand Geritz Rd\, Kingaroy\,Qld 4610 \nRegister here:
URL:https://kcci.asn.au/event/new-technologies-in-the-renewable-energy-sector/
LOCATION:Kingaroy TAFE\, Cnr Bunya Highwayand Geritz Rd\, Kingaroy\, QLD\, 4610\, Australia
CATEGORIES:Training & Education
ATTACH;FMTTYPE=image/png:https://kcci.asn.au/wp-content/uploads/2026/03/Renweable-energy-workshops-Kingaroy-TAFE-.png
END:VEVENT
BEGIN:VEVENT
DTSTART;TZID=Australia/Melbourne:20260318T090000
DTEND;TZID=Australia/Melbourne:20260318T120000
DTSTAMP:20260424T091035
CREATED:20260309T002202Z
LAST-MODIFIED:20260309T002323Z
UID:8840-1773824400-1773835200@kcci.asn.au
SUMMARY:Wind Energy Systems
DESCRIPTION:This micro-credential has been created through the Regional Economic Futures Fund Project\, in collaboration with the Queensland Government. \nMicro-credential Description\nThe Wind Energy Systems micro-credential introduces the core principles of how wind energy systems generate electricity and examines the key components that enable their operation. \nParticipants will explore system design and operating features\, along with the planning and site selection factors that influence successful projects. The course addresses environmental impacts\, safety requirements\, risk mitigation strategies\, wind and weather terminology\, and regional and seasonal wind patterns to support effective system planning and operation. \nTopics Covered\n\nWorking principles of wind energy systems\nDesign considerations for small wind energy systems\nEnvironmental considerations and site assessment\n\nWhen: \n18 March 2026\, 9 am to 12 noon \nWhere:  \nKingaroy Tafe\, Cnr Bunya Highwayand Geritz Rd\, Kingaroy\,Qld 4610 \nRegister here: 
URL:https://kcci.asn.au/event/wind-energy-systems/
LOCATION:Kingaroy TAFE\, Cnr Bunya Highwayand Geritz Rd\, Kingaroy\, QLD\, 4610\, Australia
CATEGORIES:Training & Education
ATTACH;FMTTYPE=image/png:https://kcci.asn.au/wp-content/uploads/2026/03/Wind-energy-systems-Kingaroy-TAFE-.png
END:VEVENT
END:VCALENDAR