BEGIN:VCALENDAR
VERSION:2.0
PRODID:-//Kingaroy Chamber of Commerce - ECPv6.15.20//NONSGML v1.0//EN
CALSCALE:GREGORIAN
METHOD:PUBLISH
X-WR-CALNAME:Kingaroy Chamber of Commerce
X-ORIGINAL-URL:https://kcci.asn.au
X-WR-CALDESC:Events for Kingaroy Chamber of Commerce
REFRESH-INTERVAL;VALUE=DURATION:PT1H
X-Robots-Tag:noindex
X-PUBLISHED-TTL:PT1H
BEGIN:VTIMEZONE
TZID:Australia/Melbourne
BEGIN:STANDARD
TZOFFSETFROM:+1100
TZOFFSETTO:+1000
TZNAME:AEST
DTSTART:20250405T160000
END:STANDARD
BEGIN:DAYLIGHT
TZOFFSETFROM:+1000
TZOFFSETTO:+1100
TZNAME:AEDT
DTSTART:20251004T160000
END:DAYLIGHT
BEGIN:STANDARD
TZOFFSETFROM:+1100
TZOFFSETTO:+1000
TZNAME:AEST
DTSTART:20260404T160000
END:STANDARD
BEGIN:DAYLIGHT
TZOFFSETFROM:+1000
TZOFFSETTO:+1100
TZNAME:AEDT
DTSTART:20261003T160000
END:DAYLIGHT
BEGIN:STANDARD
TZOFFSETFROM:+1100
TZOFFSETTO:+1000
TZNAME:AEST
DTSTART:20270403T160000
END:STANDARD
BEGIN:DAYLIGHT
TZOFFSETFROM:+1000
TZOFFSETTO:+1100
TZNAME:AEDT
DTSTART:20271002T160000
END:DAYLIGHT
END:VTIMEZONE
BEGIN:VEVENT
DTSTART;TZID=Australia/Melbourne:20260212T083000
DTEND;TZID=Australia/Melbourne:20260213T160000
DTSTAMP:20260424T130352
CREATED:20251111T015841Z
LAST-MODIFIED:20251111T015841Z
UID:8639-1770885000-1770998400@kcci.asn.au
SUMMARY:Two Day Lean Simulation Manufacturing Workshop
DESCRIPTION:Don’t miss this two-day hands-on\, ‘learnings by doing’\, manufacturing workshop\, held in Bundaberg in February 2026. \nThe Department of Natural Resources and Mines; Manufacturing; Regional and Rural Development will be hosting LEAN Manufacturing workshops facilitated by Vative \nAbout this event: \nWide Bay Manufacturing have Mike Morrow from Vative presenting a two-day Lean Manufacturing Workshop to be held in BUNDABERG for Manufacturers in the Wide Bay region. \nThe 2-Day Workshop will cover the following topics: \n\nWaste reduction\nValue stream mapping (VSM)\n5S workplace housekeeping and organisation\nTeamwork\nSet up reduction\nPull systems (kanban’s)\nVisual performance measurement (VPM)\nTotal Productive Maintenance (TPM)\nStandard work\nFocused improvement\n\nThese learnings can then be implemented within businesses to improve and streamline output. \nThis event is designed for 2-3 key personnel from each business\, including the business owner\, CFO and/or managers to attend the two-day workshop. \nMorning & Afternoon Tea and Lunch Provided \n  \nDetails as follows:  \nDate: Thursday 12th and Friday 13th February 2026 \nTime: 8.30am – 4.00pm \nWhere: Department of Natural Resources and Mines\, Manufacturing and Regional and Rural Development Office \n16 – 32 Enterprise Street\, Bundaberg Qld 4670 \nCost: $50.00 per person \nContact: Simon Parnell\, Wide Bay Manufacturing Manager\, \nemail: simon.parnell@nrmmrrd.qld.gov.au or phone: 0400 157 261 \nAbout Mike Morrow: \nMichael Morrow is an Industrial Engineer with over twenty years’ experience in assisting companies with productivity improvement. After graduating with degrees in Engineering and Business\, Michael embarked on a career in Industrial Engineering in the lighting\, bedding ad door hardware industries. For 5 years\, Michael was a Productivity Consultant for QMI Solutions. During his employment at QMI Solutions\, Michael assisted companies\, including job shops and food manufacturers. \n \n 
URL:https://kcci.asn.au/event/two-day-lean-simulation-manufacturing-workshop/
LOCATION:Department of Natural Resources and Mines\, Manufacturing and Regional and Rural Development Office\, 16 - 32 Enterprise Street\, Bundaberg\, QLD\, 4670\, Australia
CATEGORIES:Training & Education
ATTACH;FMTTYPE=image/png:https://kcci.asn.au/wp-content/uploads/2025/11/Manufacturing-workshop-Bundaberg.png
END:VEVENT
END:VCALENDAR