BEGIN:VCALENDAR
VERSION:2.0
PRODID:-//Kingaroy Chamber of Commerce - ECPv6.15.20//NONSGML v1.0//EN
CALSCALE:GREGORIAN
METHOD:PUBLISH
X-WR-CALNAME:Kingaroy Chamber of Commerce
X-ORIGINAL-URL:https://kcci.asn.au
X-WR-CALDESC:Events for Kingaroy Chamber of Commerce
REFRESH-INTERVAL;VALUE=DURATION:PT1H
X-Robots-Tag:noindex
X-PUBLISHED-TTL:PT1H
BEGIN:VTIMEZONE
TZID:Australia/Melbourne
BEGIN:STANDARD
TZOFFSETFROM:+1100
TZOFFSETTO:+1000
TZNAME:AEST
DTSTART:20230401T160000
END:STANDARD
BEGIN:DAYLIGHT
TZOFFSETFROM:+1000
TZOFFSETTO:+1100
TZNAME:AEDT
DTSTART:20230930T160000
END:DAYLIGHT
BEGIN:STANDARD
TZOFFSETFROM:+1100
TZOFFSETTO:+1000
TZNAME:AEST
DTSTART:20240406T160000
END:STANDARD
BEGIN:DAYLIGHT
TZOFFSETFROM:+1000
TZOFFSETTO:+1100
TZNAME:AEDT
DTSTART:20241005T160000
END:DAYLIGHT
BEGIN:STANDARD
TZOFFSETFROM:+1100
TZOFFSETTO:+1000
TZNAME:AEST
DTSTART:20250405T160000
END:STANDARD
BEGIN:DAYLIGHT
TZOFFSETFROM:+1000
TZOFFSETTO:+1100
TZNAME:AEDT
DTSTART:20251004T160000
END:DAYLIGHT
END:VTIMEZONE
BEGIN:VEVENT
DTSTART;TZID=Australia/Melbourne:20241126T171500
DTEND;TZID=Australia/Melbourne:20241126T190000
DTSTAMP:20260420T094326
CREATED:20241114T054038Z
LAST-MODIFIED:20241115T023809Z
UID:7982-1732641300-1732647600@kcci.asn.au
SUMMARY:November Meet & Greet
DESCRIPTION:Kingaroy Chamber of Commerce & Industry Inc. invites you to our Annual General Meeting and Meet & Greet hosted by the Carolee Hotel. \nGuest Speakers:  \nCarrollee Hotel – Steve Glare\, Venue Manager – CQHG bought the Carrollee Hotel in Sept 2014 and currently employs approx. 35 staff. The Hotel has embraced local musicians for the weekend entertainment and major events throughout the year. The Carrollee Hotel was renovated and completed in 2019 and won Best Hotel Renovation in 2019 at the QHA Awards. Further improvements will start in 2025. \nWhere: 4 King St\, Kingaroy\nWhen: Tuesday 26st November 2024\nTime 5.15pm\nMembers $15 per person\nNon-members $20 per person \nAGM commencing at 6.00pm followed by M&G. \nRSVP by 24th November to info@kcci.asn.au \nIf you wish to prior to the event\, bank details are:\nBSB: 638-070 – Account No: 1055 1158 – Name: Kingaroy Chamber of Commerce\nPlease use your business name as the reference & email receipt of payment to info@kcci.asn.au \n  \n  \n 
URL:https://kcci.asn.au/event/november-meet-greet-3/
LOCATION:Carolee Hotel\, 4 King Street\, kingaroy\, QLD\, 4610\, Australia
CATEGORIES:Meet & Greet
END:VEVENT
END:VCALENDAR