BEGIN:VCALENDAR
VERSION:2.0
PRODID:-//Kingaroy Chamber of Commerce - ECPv6.15.20//NONSGML v1.0//EN
CALSCALE:GREGORIAN
METHOD:PUBLISH
X-WR-CALNAME:Kingaroy Chamber of Commerce
X-ORIGINAL-URL:https://kcci.asn.au
X-WR-CALDESC:Events for Kingaroy Chamber of Commerce
REFRESH-INTERVAL;VALUE=DURATION:PT1H
X-Robots-Tag:noindex
X-PUBLISHED-TTL:PT1H
BEGIN:VTIMEZONE
TZID:Australia/Melbourne
BEGIN:STANDARD
TZOFFSETFROM:+1100
TZOFFSETTO:+1000
TZNAME:AEST
DTSTART:20240406T160000
END:STANDARD
BEGIN:DAYLIGHT
TZOFFSETFROM:+1000
TZOFFSETTO:+1100
TZNAME:AEDT
DTSTART:20241005T160000
END:DAYLIGHT
BEGIN:STANDARD
TZOFFSETFROM:+1100
TZOFFSETTO:+1000
TZNAME:AEST
DTSTART:20250405T160000
END:STANDARD
BEGIN:DAYLIGHT
TZOFFSETFROM:+1000
TZOFFSETTO:+1100
TZNAME:AEDT
DTSTART:20251004T160000
END:DAYLIGHT
BEGIN:STANDARD
TZOFFSETFROM:+1100
TZOFFSETTO:+1000
TZNAME:AEST
DTSTART:20260404T160000
END:STANDARD
BEGIN:DAYLIGHT
TZOFFSETFROM:+1000
TZOFFSETTO:+1100
TZNAME:AEDT
DTSTART:20261003T160000
END:DAYLIGHT
END:VTIMEZONE
BEGIN:VEVENT
DTSTART;TZID=Australia/Melbourne:20250524T053000
DTEND;TZID=Australia/Melbourne:20250524T203000
DTSTAMP:20260424T055708
CREATED:20250307T004233Z
LAST-MODIFIED:20250310T002139Z
UID:8080-1748064600-1748118600@kcci.asn.au
SUMMARY:South Burnett Training Awards
DESCRIPTION:The third annual South Burnett Training Awards will be held in May 2025 with nominations now being accepted up until midnight 30 March 2025. \nThis is a signature event that celebrates training and our local businesses. \nCategories include: \n–  School Based Trainee / Apprentice of the Year \n–  Equity Award \n–  2025 Apprentice of the Year \n–  2025 Trainee of the Year \n–  2025 Business of the Year \n\n –  Vocational Medallion \n\nIt would be greatly appreciated if you could circulate this information to your members. \nNomination forms for entry can be found at: \nhttps://southburnetttrainingawards.net.au \nOr by using the QR Code below. \nOur evening for the South Burnett Training Awards will be held on: \n 24 May 2025  at the Murgon Town Hall \nFor further information\, contact Mark Pitt 0407 662 388 or Nicola Pitt 0427 467 393 or imogene@imogenenix.net or pitty604@gmail.com \n \n  \n 
URL:https://kcci.asn.au/event/pride-of-workmanship-award-scheme/
LOCATION:Murgon Town Hall\, 78 Gore Street\, Murgon\, 4605\, Australia
CATEGORIES:Awards,Training & Education
ATTACH;FMTTYPE=image/png:https://kcci.asn.au/wp-content/uploads/2025/03/Rotary-Club-Murgon-and-Kingaroy.png
ORGANIZER;CN="Rotary Satellite Club of Kingaroy Sunrise":MAILTO:pitty604@gmail.com
END:VEVENT
END:VCALENDAR